BEGIN:VCALENDAR
VERSION:2.0
PRODID:-//Florida Digital Humanities Consortium//NONSGML Events//EN
CALSCALE:GREGORIAN
X-ORIGINAL-URL:https://fldh.org/events/event/
X-WR-CALDESC:Florida Digital Humanities Consortium - Events
BEGIN:VEVENT
UID:20220402T1200Z-1648900812.8822-EO-945-1@10.228.7.67
STATUS:CONFIRMED
DTSTAMP:20260419T132843Z
CREATED:20220331T171222Z
LAST-MODIFIED:20220331T171330Z
DTSTART:20220405T160000Z
DTEND:20220405T170000Z
SUMMARY: African American History Meets AI In The 21st Century Classroom
DESCRIPTION: Faculty and student panelists will discuss how they are utiliz
 ing artificial intelligence to create instructional lesson plans from SPOHP
 ’s UF’s Joel Buchanan African American Oral History Archive and make it acc
 essible to scholars and K-12 students. Exploratory themes that will be disc
 ussed will be on curriculum and the uses of local history\, the creation of
  [...]
X-ALT-DESC;FMTTYPE=text/html: <p>Faculty and student panelists will discuss
  how they are utilizing artificial intelligence to create instructional les
 son plans from SPOHP’s UF’s Joel Buchanan African American Oral History Arc
 hive and make it accessible to scholars and K-12 students. Exploratory them
 es that will be discussed will be on curriculum and the uses of local histo
 ry\, the creation of lesson plans that honor African American language\, an
 d the implementation of AI normalizing linguistic variations. This project 
 is funded through the National Endowment for the Humanities funded collabor
 ation between SPOHP\, UF Libraries\, UF Department of Linguistics\, and the
  All Y’all Social Justice Collective titled\, “Reanimating African American
  Oral Histories of the Gulf South.”</p><p>Register here: <a href="https://u
 fl.zoom.us/webinar/register/WN_EAHJeUC7Rcik3ByOIDVn-w">bit.ly/AAH-AI</a></p
 >
ORGANIZER;CN="Sara F. Johnson":MAILTO:sjohnso2@irsc.edu
URL;VALUE=URI:https://fldh.org/events/event/african-american-history-meets-
 ai-in-the-21st-century-classroom/
END:VEVENT
END:VCALENDAR
