BEGIN:VCALENDAR
VERSION:2.0
PRODID:-//Florida Digital Humanities Consortium//NONSGML Events//EN
CALSCALE:GREGORIAN
X-ORIGINAL-URL:https://fldh.org/events/event/
X-WR-CALDESC:Florida Digital Humanities Consortium - Events
BEGIN:VEVENT
UID:20220402T1205Z-1648901114.9999-EO-947-1@10.228.7.67
STATUS:CONFIRMED
DTSTAMP:20260419T132956Z
CREATED:20220331T171557Z
LAST-MODIFIED:20220331T171721Z
DTSTART:20220407T100000Z
DTEND:20220407T140000Z
SUMMARY: AI Ethics and Policy Mini-Symposium
DESCRIPTION: AI poses novel challenges to societal norms and values. Addres
 sing these challenges requires interdisciplinary collaboration\, bringing t
 echnical work in computer science into conversation with scholarship in law
 \, the humanities\, and the social sciences. This Mini-Symposium showcases 
 the variety of research programs in AI ethics and policy across UF’s campus
 \, and it invites reflection on how [...]
X-ALT-DESC;FMTTYPE=text/html: <p>AI poses novel challenges to societal norm
 s and values. Addressing these challenges requires interdisciplinary collab
 oration\, bringing technical work in computer science into conversation wit
 h scholarship in law\, the humanities\, and the social sciences. This Mini-
 Symposium showcases the variety of research programs in AI ethics and polic
 y across UF’s campus\, and it invites reflection on how a major research in
 stitution can cultivate a rich AI ethics and policy ecosystem.</p><p>Regist
 ration and program are available <a href="https://informatics.research.ufl.
 edu/event/ai-ethics-and-policy-mini-symposium/">here</a>.</p>
ORGANIZER;CN="Sara F. Johnson":MAILTO:sjohnso2@irsc.edu
URL;VALUE=URI:https://fldh.org/events/event/ai-ethics-and-policy-mini-sympo
 sium/
END:VEVENT
END:VCALENDAR
