BEGIN:VCALENDAR
VERSION:2.0
PRODID:-//Florida Digital Humanities Consortium//NONSGML Events//EN
CALSCALE:GREGORIAN
X-ORIGINAL-URL:https://fldh.org/events/event/
X-WR-CALDESC:Florida Digital Humanities Consortium - Events
BEGIN:VEVENT
UID:20211117T0623Z-1637130216.0044-EO-851-1@10.228.7.67
STATUS:CONFIRMED
DTSTAMP:20260419T131250Z
CREATED:20211116T191106Z
LAST-MODIFIED:20211116T192638Z
DTSTART:20211117T143000Z
DTEND:20211117T153000Z
SUMMARY: Building Interactive and Media-Rich Timelines With TimelineJS
DESCRIPTION: TimelineJS is a free and open-source digital scholarship tool 
 that allows for anyone to build interactive and media-rich timelines using 
 a simple Google Sheets template. These timelines can be accessed via their 
 own URL or easily embedded into other websites or projects. This workshop w
 ill be a hands-on introduction to creating timelines using a variety [...]
X-ALT-DESC;FMTTYPE=text/html: <p>TimelineJS is a free and open-source digit
 al scholarship tool that allows for anyone to build interactive and media-r
 ich timelines using a simple Google Sheets template. These timelines can be
  accessed via their own URL or easily embedded into other websites or proje
 cts. This workshop will be a hands-on introduction to creating timelines us
 ing a variety of online media. We will also discuss ways TimelineJS can be 
 used in an academic setting. Participants don’t need any previous technical
  experience\, but should have access to a Google account to use Google Shee
 ts if they would like to follow-along with the demo.</p><p>Register <a href
 ="https://fiu.zoom.us/meeting/register/tJEocO-srzMpGdco4zvHbeDioFXl70Qq0lCN
 ">here</a>.</p>
ORGANIZER;CN="Sara F. Johnson":MAILTO:sjohnso2@irsc.edu
URL;VALUE=URI:https://fldh.org/events/event/building-interactive-and-media-
 rich-timelines-with-timeline/
END:VEVENT
END:VCALENDAR
