BEGIN:VCALENDAR
VERSION:2.0
PRODID:-//Florida Digital Humanities Consortium//NONSGML Events//EN
CALSCALE:GREGORIAN
X-ORIGINAL-URL:https://fldh.org/events/event/
X-WR-CALDESC:Florida Digital Humanities Consortium - Events
BEGIN:VEVENT
UID:20200209T0003Z-1581206616.7056-EO-114-1@10.192.19.18
STATUS:CONFIRMED
DTSTAMP:20260419T132654Z
CREATED:20191126T001401Z
LAST-MODIFIED:20191126T001506Z
DTSTART;VALUE=DATE:20200417
DTEND;VALUE=DATE:20200419
SUMMARY: THAT Camp Tallahassee
DESCRIPTION: Florida State University is hosting a THATCamp for digital hum
 anities practitioners in North Florida and beyond. This free event will bri
 ng together both aspiring and long-time DH-ers to engage with new tools and
  methods\, showcase nascent projects\, and discuss issues in the field. Whe
 ther you are a long-time user of digital methods\, or merely curious about 
 digital scholarship\, this event will give you the opportunity to engage wi
 th fellow scholars to talk about partnerships\, skills\, and collaboration.
X-ALT-DESC;FMTTYPE=text/html: <p>Florida State University is hosting a <a h
 ref="http://tlh2020.thatcamp.org/">THATCamp</a> for digital humanities prac
 titioners in North Florida and beyond. This free event will bring together 
 both aspiring and long-time DH-ers to engage with new tools and methods\, s
 howcase nascent projects\, and discuss issues in the field. Whether you are
  a long-time user of digital methods\, or merely curious about digital scho
 larship\, this event will give you the opportunity to engage with fellow sc
 holars to talk about partnerships\, skills\, and collaboration.</p>
ORGANIZER;CN="Mia":MAILTO:mi789484@ucf.edu
URL;VALUE=URI:https://fldh.org/events/event/that-camp-tallahassee/
END:VEVENT
END:VCALENDAR
